BEGIN:VCALENDAR
VERSION:2.0
PRODID:-//Motocrew - ECPv6.15.14//NONSGML v1.0//EN
CALSCALE:GREGORIAN
METHOD:PUBLISH
X-ORIGINAL-URL:https://staging.motocrew.ch
X-WR-CALDESC:Veranstaltungen im Motocrew
REFRESH-INTERVAL;VALUE=DURATION:PT1H
X-Robots-Tag:noindex
X-PUBLISHED-TTL:PT1H
BEGIN:VTIMEZONE
TZID:Europe/Zurich
BEGIN:DAYLIGHT
TZOFFSETFROM:+0100
TZOFFSETTO:+0200
TZNAME:CEST
DTSTART:20250330T010000
END:DAYLIGHT
BEGIN:STANDARD
TZOFFSETFROM:+0200
TZOFFSETTO:+0100
TZNAME:CET
DTSTART:20251026T010000
END:STANDARD
BEGIN:DAYLIGHT
TZOFFSETFROM:+0100
TZOFFSETTO:+0200
TZNAME:CEST
DTSTART:20260329T010000
END:DAYLIGHT
BEGIN:STANDARD
TZOFFSETFROM:+0200
TZOFFSETTO:+0100
TZNAME:CET
DTSTART:20261025T010000
END:STANDARD
BEGIN:DAYLIGHT
TZOFFSETFROM:+0100
TZOFFSETTO:+0200
TZNAME:CEST
DTSTART:20270328T010000
END:DAYLIGHT
BEGIN:STANDARD
TZOFFSETFROM:+0200
TZOFFSETTO:+0100
TZNAME:CET
DTSTART:20271031T010000
END:STANDARD
END:VTIMEZONE
BEGIN:VEVENT
DTSTART;TZID=Europe/Zurich:20260124T083000
DTEND;TZID=Europe/Zurich:20260124T163000
DTSTAMP:20260420T120512
CREATED:20260107T065410Z
LAST-MODIFIED:20260107T065410Z
UID:2826-1769243400-1769272200@staging.motocrew.ch
SUMMARY:Ausbildung Erste Hilfe; BLS AED +
DESCRIPTION:
URL:https://staging.motocrew.ch/event/ausbildung-erste-hilfe-bls-aed-3/
LOCATION:Dübendorf\, Switzerland
CATEGORIES:Ausbildung
END:VEVENT
END:VCALENDAR