BEGIN:VCALENDAR
VERSION:2.0
PRODID:-//Motocrew - ECPv6.15.14//NONSGML v1.0//EN
CALSCALE:GREGORIAN
METHOD:PUBLISH
X-ORIGINAL-URL:https://staging.motocrew.ch
X-WR-CALDESC:Veranstaltungen im Motocrew
REFRESH-INTERVAL;VALUE=DURATION:PT1H
X-Robots-Tag:noindex
X-PUBLISHED-TTL:PT1H
BEGIN:VTIMEZONE
TZID:Europe/Zurich
BEGIN:DAYLIGHT
TZOFFSETFROM:+0100
TZOFFSETTO:+0200
TZNAME:CEST
DTSTART:20240331T010000
END:DAYLIGHT
BEGIN:STANDARD
TZOFFSETFROM:+0200
TZOFFSETTO:+0100
TZNAME:CET
DTSTART:20241027T010000
END:STANDARD
BEGIN:DAYLIGHT
TZOFFSETFROM:+0100
TZOFFSETTO:+0200
TZNAME:CEST
DTSTART:20250330T010000
END:DAYLIGHT
BEGIN:STANDARD
TZOFFSETFROM:+0200
TZOFFSETTO:+0100
TZNAME:CET
DTSTART:20251026T010000
END:STANDARD
BEGIN:DAYLIGHT
TZOFFSETFROM:+0100
TZOFFSETTO:+0200
TZNAME:CEST
DTSTART:20260329T010000
END:DAYLIGHT
BEGIN:STANDARD
TZOFFSETFROM:+0200
TZOFFSETTO:+0100
TZNAME:CET
DTSTART:20261025T010000
END:STANDARD
END:VTIMEZONE
BEGIN:VEVENT
DTSTART;TZID=Europe/Zurich:20250905T080000
DTEND;TZID=Europe/Zurich:20250905T170000
DTSTAMP:20260420T184216
CREATED:20250215T135816Z
LAST-MODIFIED:20250215T135816Z
UID:2477-1757059200-1757091600@staging.motocrew.ch
SUMMARY:Jalonieren Swiss Cycling Alpenbrevet 2025
DESCRIPTION:
URL:https://staging.motocrew.ch/event/jalonieren-swiss-cycling-alpenbrevet-2025/
LOCATION:Andermatt
CATEGORIES:Events
END:VEVENT
BEGIN:VEVENT
DTSTART;TZID=Europe/Zurich:20250905T100000
DTEND;TZID=Europe/Zurich:20250907T170000
DTSTAMP:20260420T184216
CREATED:20250215T135910Z
LAST-MODIFIED:20250215T135910Z
UID:2479-1757066400-1757264400@staging.motocrew.ch
SUMMARY:GP Rüebliland
DESCRIPTION:
URL:https://staging.motocrew.ch/event/gp-rueebliland/
CATEGORIES:Events
END:VEVENT
BEGIN:VEVENT
DTSTART;TZID=Europe/Zurich:20250906T060000
DTEND;TZID=Europe/Zurich:20250906T170000
DTSTAMP:20260420T184216
CREATED:20250215T140006Z
LAST-MODIFIED:20250215T140019Z
UID:2481-1757138400-1757178000@staging.motocrew.ch
SUMMARY:Swiss Cycling Alpenbrevet 2025
DESCRIPTION:
URL:https://staging.motocrew.ch/event/swiss-cycling-alpenbrevet-2025/
LOCATION:Andermatt
CATEGORIES:Events
END:VEVENT
BEGIN:VEVENT
DTSTART;TZID=Europe/Zurich:20250920T080000
DTEND;TZID=Europe/Zurich:20250920T170000
DTSTAMP:20260420T184216
CREATED:20250215T140131Z
LAST-MODIFIED:20250215T140131Z
UID:2483-1758355200-1758387600@staging.motocrew.ch
SUMMARY:Gran Fondo Vaduz
DESCRIPTION:
URL:https://staging.motocrew.ch/event/gran-fondo-vaduz/
LOCATION:Vaduz
CATEGORIES:Events
END:VEVENT
BEGIN:VEVENT
DTSTART;TZID=Europe/Zurich:20250927T073000
DTEND;TZID=Europe/Zurich:20250927T163000
DTSTAMP:20260420T184216
CREATED:20250215T140222Z
LAST-MODIFIED:20250215T140222Z
UID:2485-1758958200-1758990600@staging.motocrew.ch
SUMMARY:Winti SOLA Stafette
DESCRIPTION:
URL:https://staging.motocrew.ch/event/winti-sola-stafette/
LOCATION:Winterthur
CATEGORIES:Events
END:VEVENT
BEGIN:VEVENT
DTSTART;TZID=Europe/Zurich:20250928T080000
DTEND;TZID=Europe/Zurich:20250928T170000
DTSTAMP:20260420T184216
CREATED:20250215T140329Z
LAST-MODIFIED:20250215T140329Z
UID:2487-1759046400-1759078800@staging.motocrew.ch
SUMMARY:Bike Side MTB Festivam; Ironbike Race
DESCRIPTION:
URL:https://staging.motocrew.ch/event/bike-side-mtb-festivam-ironbike-race/
LOCATION:Einsiedeln\, Switzerland
CATEGORIES:Events
END:VEVENT
END:VCALENDAR