BEGIN:VCALENDAR
VERSION:2.0
PRODID:-//Motocrew - ECPv6.15.14//NONSGML v1.0//EN
CALSCALE:GREGORIAN
METHOD:PUBLISH
X-ORIGINAL-URL:https://staging.motocrew.ch
X-WR-CALDESC:Veranstaltungen im Motocrew
REFRESH-INTERVAL;VALUE=DURATION:PT1H
X-Robots-Tag:noindex
X-PUBLISHED-TTL:PT1H
BEGIN:VTIMEZONE
TZID:Europe/Zurich
BEGIN:DAYLIGHT
TZOFFSETFROM:+0100
TZOFFSETTO:+0200
TZNAME:CEST
DTSTART:20240331T010000
END:DAYLIGHT
BEGIN:STANDARD
TZOFFSETFROM:+0200
TZOFFSETTO:+0100
TZNAME:CET
DTSTART:20241027T010000
END:STANDARD
BEGIN:DAYLIGHT
TZOFFSETFROM:+0100
TZOFFSETTO:+0200
TZNAME:CEST
DTSTART:20250330T010000
END:DAYLIGHT
BEGIN:STANDARD
TZOFFSETFROM:+0200
TZOFFSETTO:+0100
TZNAME:CET
DTSTART:20251026T010000
END:STANDARD
BEGIN:DAYLIGHT
TZOFFSETFROM:+0100
TZOFFSETTO:+0200
TZNAME:CEST
DTSTART:20260329T010000
END:DAYLIGHT
BEGIN:STANDARD
TZOFFSETFROM:+0200
TZOFFSETTO:+0100
TZNAME:CET
DTSTART:20261025T010000
END:STANDARD
END:VTIMEZONE
BEGIN:VEVENT
DTSTART;TZID=Europe/Zurich:20250405T083000
DTEND;TZID=Europe/Zurich:20250405T163000
DTSTAMP:20260421T031915
CREATED:20250214T094238Z
LAST-MODIFIED:20250214T094238Z
UID:2406-1743841800-1743870600@staging.motocrew.ch
SUMMARY:Technische Ausbildung 1
DESCRIPTION:
URL:https://staging.motocrew.ch/event/technische-ausbildung-1/
LOCATION:Pfäffikon SZ\, Gwattstrasse 3\, 8808 Pfäffikon\, Switzerland
CATEGORIES:Ausbildung
END:VEVENT
BEGIN:VEVENT
DTSTART;TZID=Europe/Zurich:20250406T083000
DTEND;TZID=Europe/Zurich:20250406T163000
DTSTAMP:20260421T031915
CREATED:20250214T104342Z
LAST-MODIFIED:20250214T104342Z
UID:2408-1743928200-1743957000@staging.motocrew.ch
SUMMARY:Technische Ausbildung 2
DESCRIPTION:
URL:https://staging.motocrew.ch/event/technische-ausbildung-2/
LOCATION:Pfäffikon SZ\, Gwattstrasse 3\, 8808 Pfäffikon\, Switzerland
CATEGORIES:Ausbildung
END:VEVENT
BEGIN:VEVENT
DTSTART;TZID=Europe/Zurich:20250413T073000
DTEND;TZID=Europe/Zurich:20250413T170000
DTSTAMP:20260421T031915
CREATED:20250215T111432Z
LAST-MODIFIED:20250215T111432Z
UID:2415-1744529400-1744563600@staging.motocrew.ch
SUMMARY:Zürich Marathon
DESCRIPTION:
URL:https://staging.motocrew.ch/event/zuerich-marathon/
LOCATION:Zürich\, Switzerland
CATEGORIES:Events
END:VEVENT
BEGIN:VEVENT
DTSTART;TZID=Europe/Zurich:20250426T083000
DTEND;TZID=Europe/Zurich:20250426T163000
DTSTAMP:20260421T031915
CREATED:20250215T111152Z
LAST-MODIFIED:20250215T111152Z
UID:2411-1745656200-1745685000@staging.motocrew.ch
SUMMARY:Technische Ausbildung 3
DESCRIPTION:
URL:https://staging.motocrew.ch/event/technische-ausbildung-3/
LOCATION:Pfäffikon SZ\, Gwattstrasse 3\, 8808 Pfäffikon\, Switzerland
CATEGORIES:Ausbildung
END:VEVENT
BEGIN:VEVENT
DTSTART;TZID=Europe/Zurich:20250427T083000
DTEND;TZID=Europe/Zurich:20250427T163000
DTSTAMP:20260421T031915
CREATED:20250215T111226Z
LAST-MODIFIED:20250215T111324Z
UID:2413-1745742600-1745771400@staging.motocrew.ch
SUMMARY:Technische Ausbildung 4
DESCRIPTION:
URL:https://staging.motocrew.ch/event/technische-ausbildung-4/
LOCATION:Pfäffikon SZ\, Gwattstrasse 3\, 8808 Pfäffikon\, Switzerland
CATEGORIES:Ausbildung
END:VEVENT
END:VCALENDAR