BEGIN:VCALENDAR
VERSION:2.0
PRODID:-//Motocrew - ECPv6.15.14//NONSGML v1.0//EN
CALSCALE:GREGORIAN
METHOD:PUBLISH
X-WR-CALNAME:Motocrew
X-ORIGINAL-URL:https://staging.motocrew.ch
X-WR-CALDESC:Veranstaltungen im Motocrew
REFRESH-INTERVAL;VALUE=DURATION:PT1H
X-Robots-Tag:noindex
X-PUBLISHED-TTL:PT1H
BEGIN:VTIMEZONE
TZID:Europe/Zurich
BEGIN:DAYLIGHT
TZOFFSETFROM:+0100
TZOFFSETTO:+0200
TZNAME:CEST
DTSTART:20240331T010000
END:DAYLIGHT
BEGIN:STANDARD
TZOFFSETFROM:+0200
TZOFFSETTO:+0100
TZNAME:CET
DTSTART:20241027T010000
END:STANDARD
BEGIN:DAYLIGHT
TZOFFSETFROM:+0100
TZOFFSETTO:+0200
TZNAME:CEST
DTSTART:20250330T010000
END:DAYLIGHT
BEGIN:STANDARD
TZOFFSETFROM:+0200
TZOFFSETTO:+0100
TZNAME:CET
DTSTART:20251026T010000
END:STANDARD
BEGIN:DAYLIGHT
TZOFFSETFROM:+0100
TZOFFSETTO:+0200
TZNAME:CEST
DTSTART:20260329T010000
END:DAYLIGHT
BEGIN:STANDARD
TZOFFSETFROM:+0200
TZOFFSETTO:+0100
TZNAME:CET
DTSTART:20261025T010000
END:STANDARD
END:VTIMEZONE
BEGIN:VEVENT
DTSTART;TZID=Europe/Zurich:20250222T153000
DTEND;TZID=Europe/Zurich:20250222T210000
DTSTAMP:20260421T064128
CREATED:20250214T093825Z
LAST-MODIFIED:20250214T093905Z
UID:2395-1740238200-1740258000@staging.motocrew.ch
SUMMARY:6. Vereinsversammlung
DESCRIPTION:Am 22. Februar findet unsere 6. Vereinsversammlung statt. Die Traktandenliste habt ihr per E-Mail erhalten. Bitte eure Anträge zuhanden der Vereinsversammlung\, bis am 10. Februar 2025 an unseren Aktuar senden. \nWir treffen uns in diesem Jahr im Gasthof Engel Unterdorf 3a in 5420 Ehrendingen. \nDer Apero startet 15:30 und die Vereinsversammlung beginnt um 16:30!
URL:https://staging.motocrew.ch/event/6-vereinsversammlung/
LOCATION:Ehrendingen
CATEGORIES:Treffen
END:VEVENT
END:VCALENDAR