BEGIN:VCALENDAR
VERSION:2.0
PRODID:-//Motocrew - ECPv6.15.14//NONSGML v1.0//EN
CALSCALE:GREGORIAN
METHOD:PUBLISH
X-WR-CALNAME:Motocrew
X-ORIGINAL-URL:https://staging.motocrew.ch
X-WR-CALDESC:Veranstaltungen im Motocrew
REFRESH-INTERVAL;VALUE=DURATION:PT1H
X-Robots-Tag:noindex
X-PUBLISHED-TTL:PT1H
BEGIN:VTIMEZONE
TZID:Europe/Zurich
BEGIN:DAYLIGHT
TZOFFSETFROM:+0100
TZOFFSETTO:+0200
TZNAME:CEST
DTSTART:20230326T010000
END:DAYLIGHT
BEGIN:STANDARD
TZOFFSETFROM:+0200
TZOFFSETTO:+0100
TZNAME:CET
DTSTART:20231029T010000
END:STANDARD
BEGIN:DAYLIGHT
TZOFFSETFROM:+0100
TZOFFSETTO:+0200
TZNAME:CEST
DTSTART:20240331T010000
END:DAYLIGHT
BEGIN:STANDARD
TZOFFSETFROM:+0200
TZOFFSETTO:+0100
TZNAME:CET
DTSTART:20241027T010000
END:STANDARD
BEGIN:DAYLIGHT
TZOFFSETFROM:+0100
TZOFFSETTO:+0200
TZNAME:CEST
DTSTART:20250330T010000
END:DAYLIGHT
BEGIN:STANDARD
TZOFFSETFROM:+0200
TZOFFSETTO:+0100
TZNAME:CET
DTSTART:20251026T010000
END:STANDARD
END:VTIMEZONE
BEGIN:VEVENT
DTSTART;TZID=Europe/Zurich:20240901T080000
DTEND;TZID=Europe/Zurich:20240901T170000
DTSTAMP:20260421T145349
CREATED:20240123T114301Z
LAST-MODIFIED:20240123T114301Z
UID:1905-1725177600-1725210000@staging.motocrew.ch
SUMMARY:Militärradrennen Stäfa
DESCRIPTION:
URL:https://staging.motocrew.ch/event/militaerradrennen-staefa-2/
LOCATION:Stäfa
END:VEVENT
BEGIN:VEVENT
DTSTART;TZID=Europe/Zurich:20240906T080000
DTEND;TZID=Europe/Zurich:20240908T160000
DTSTAMP:20260421T145349
CREATED:20240121T184024Z
LAST-MODIFIED:20240121T184024Z
UID:1889-1725609600-1725811200@staging.motocrew.ch
SUMMARY:GP Rüebliland
DESCRIPTION:
URL:https://staging.motocrew.ch/event/gp-rueebliland-3/
LOCATION:Villmergen
CATEGORIES:Events
END:VEVENT
BEGIN:VEVENT
DTSTART;TZID=Europe/Zurich:20240907T063000
DTEND;TZID=Europe/Zurich:20240907T170000
DTSTAMP:20260421T145349
CREATED:20240121T184127Z
LAST-MODIFIED:20240121T184127Z
UID:1892-1725690600-1725728400@staging.motocrew.ch
SUMMARY:Swiss Cycling Alpenbrevet
DESCRIPTION:
URL:https://staging.motocrew.ch/event/swiss-cycling-alpenbrevet-2/
LOCATION:Andermatt
CATEGORIES:Events
END:VEVENT
BEGIN:VEVENT
DTSTART;TZID=Europe/Zurich:20240908T073000
DTEND;TZID=Europe/Zurich:20240908T170000
DTSTAMP:20260421T145349
CREATED:20240121T184443Z
LAST-MODIFIED:20240121T184443Z
UID:1894-1725780600-1725814800@staging.motocrew.ch
SUMMARY:Powerman Zofingen
DESCRIPTION:
URL:https://staging.motocrew.ch/event/powerman-zofingen/
CATEGORIES:Events
END:VEVENT
BEGIN:VEVENT
DTSTART;TZID=Europe/Zurich:20240914T080000
DTEND;TZID=Europe/Zurich:20240914T170000
DTSTAMP:20260421T145349
CREATED:20240121T184707Z
LAST-MODIFIED:20240121T184707Z
UID:1896-1726300800-1726333200@staging.motocrew.ch
SUMMARY:Winti SOLA
DESCRIPTION:
URL:https://staging.motocrew.ch/event/winti-sola-2/
LOCATION:Winterthur
CATEGORIES:Events
END:VEVENT
BEGIN:VEVENT
DTSTART;TZID=Europe/Zurich:20240914T080000
DTEND;TZID=Europe/Zurich:20240914T170000
DTSTAMP:20260421T145349
CREATED:20240121T184831Z
LAST-MODIFIED:20240407T114057Z
UID:1898-1726300800-1726333200@staging.motocrew.ch
SUMMARY:Chasing Cancellara; Gran Fondo Vaduz
DESCRIPTION:
URL:https://staging.motocrew.ch/event/chasing-cancellara-gran-fondo-vaduz-2/
LOCATION:Vaduz
CATEGORIES:Events
END:VEVENT
BEGIN:VEVENT
DTSTART;TZID=Europe/Zurich:20240921T080000
DTEND;TZID=Europe/Zurich:20240929T170000
DTSTAMP:20260421T145349
CREATED:20240121T185209Z
LAST-MODIFIED:20240123T113920Z
UID:1900-1726905600-1727629200@staging.motocrew.ch
SUMMARY:Rad und Para-Cycling WM 2024 Zürich
DESCRIPTION:
URL:https://staging.motocrew.ch/event/rad-und-para-cycling-wm-2024-zuerich/
LOCATION:Zürich\, Switzerland
CATEGORIES:Events
END:VEVENT
BEGIN:VEVENT
DTSTART;TZID=Europe/Zurich:20240921T140000
DTEND;TZID=Europe/Zurich:20240922T170000
DTSTAMP:20260421T145349
CREATED:20240901T092320Z
LAST-MODIFIED:20240901T092320Z
UID:2207-1726927200-1727024400@staging.motocrew.ch
SUMMARY:Bikeside Festival and Iron Bike Race Einsiedeln
DESCRIPTION:
URL:https://staging.motocrew.ch/event/bikeside-festival-and-iron-bike-race-einsiedeln/
LOCATION:Einsiedeln\, Switzerland
CATEGORIES:Events
END:VEVENT
END:VCALENDAR