BEGIN:VCALENDAR
VERSION:2.0
PRODID:-//Motocrew - ECPv6.15.14//NONSGML v1.0//EN
CALSCALE:GREGORIAN
METHOD:PUBLISH
X-WR-CALNAME:Motocrew
X-ORIGINAL-URL:https://staging.motocrew.ch
X-WR-CALDESC:Veranstaltungen im Motocrew
REFRESH-INTERVAL;VALUE=DURATION:PT1H
X-Robots-Tag:noindex
X-PUBLISHED-TTL:PT1H
BEGIN:VTIMEZONE
TZID:Europe/Zurich
BEGIN:DAYLIGHT
TZOFFSETFROM:+0100
TZOFFSETTO:+0200
TZNAME:CEST
DTSTART:20230326T010000
END:DAYLIGHT
BEGIN:STANDARD
TZOFFSETFROM:+0200
TZOFFSETTO:+0100
TZNAME:CET
DTSTART:20231029T010000
END:STANDARD
BEGIN:DAYLIGHT
TZOFFSETFROM:+0100
TZOFFSETTO:+0200
TZNAME:CEST
DTSTART:20240331T010000
END:DAYLIGHT
BEGIN:STANDARD
TZOFFSETFROM:+0200
TZOFFSETTO:+0100
TZNAME:CET
DTSTART:20241027T010000
END:STANDARD
BEGIN:DAYLIGHT
TZOFFSETFROM:+0100
TZOFFSETTO:+0200
TZNAME:CEST
DTSTART:20250330T010000
END:DAYLIGHT
BEGIN:STANDARD
TZOFFSETFROM:+0200
TZOFFSETTO:+0100
TZNAME:CET
DTSTART:20251026T010000
END:STANDARD
END:VTIMEZONE
BEGIN:VEVENT
DTSTART;TZID=Europe/Zurich:20240804T090000
DTEND;TZID=Europe/Zurich:20240804T160000
DTSTAMP:20260421T020532
CREATED:20240121T183302Z
LAST-MODIFIED:20240121T183302Z
UID:1879-1722762000-1722787200@staging.motocrew.ch
SUMMARY:Dillier Classic; Gipfel Granfondo
DESCRIPTION:
URL:https://staging.motocrew.ch/event/dillier-classic-gipfel-granfondo/
LOCATION:Bad Zurzach
CATEGORIES:Events
END:VEVENT
BEGIN:VEVENT
DTSTART;TZID=Europe/Zurich:20240711T080000
DTEND;TZID=Europe/Zurich:20240713T170000
DTSTAMP:20260421T020532
CREATED:20240121T182840Z
LAST-MODIFIED:20240121T182840Z
UID:1877-1720684800-1720890000@staging.motocrew.ch
SUMMARY:Tortour Ultracycling
DESCRIPTION:
URL:https://staging.motocrew.ch/event/tortour-ultracycling-3/
LOCATION:Zürich\, Switzerland
CATEGORIES:Events
END:VEVENT
BEGIN:VEVENT
DTSTART;TZID=Europe/Zurich:20240707T080000
DTEND;TZID=Europe/Zurich:20240707T143000
DTSTAMP:20260421T020532
CREATED:20240203T132631Z
LAST-MODIFIED:20240203T132631Z
UID:1873-1720339200-1720362600@staging.motocrew.ch
SUMMARY:Sempachersee Triathlon
DESCRIPTION:
URL:https://staging.motocrew.ch/event/sempachersee-triathlon-2/
LOCATION:Nottwil
CATEGORIES:Events
END:VEVENT
BEGIN:VEVENT
DTSTART;TZID=Europe/Zurich:20240707T070000
DTEND;TZID=Europe/Zurich:20240707T170000
DTSTAMP:20260421T020532
CREATED:20240121T182707Z
LAST-MODIFIED:20240121T182707Z
UID:1875-1720335600-1720371600@staging.motocrew.ch
SUMMARY:Ironman Switzerland
DESCRIPTION:
URL:https://staging.motocrew.ch/event/ironman-switzerland-2/
LOCATION:Thun
CATEGORIES:Events
END:VEVENT
BEGIN:VEVENT
DTSTART;TZID=Europe/Zurich:20240629T120000
DTEND;TZID=Europe/Zurich:20240629T190000
DTSTAMP:20260421T020532
CREATED:20240121T182201Z
LAST-MODIFIED:20240121T182234Z
UID:1868-1719662400-1719687600@staging.motocrew.ch
SUMMARY:Swiss Skate Tour Basel; Inline & Rollski Marathon
DESCRIPTION:
URL:https://staging.motocrew.ch/event/swiss-skate-tour-basel-inline-rollski-marathon/
LOCATION:Basel
CATEGORIES:Events
END:VEVENT
BEGIN:VEVENT
DTSTART;TZID=Europe/Zurich:20240629T080000
DTEND;TZID=Europe/Zurich:20240629T170000
DTSTAMP:20260421T020532
CREATED:20240512T154104Z
LAST-MODIFIED:20240512T154104Z
UID:2063-1719648000-1719680400@staging.motocrew.ch
SUMMARY:Octopus Gravel Andermatt
DESCRIPTION:
URL:https://staging.motocrew.ch/event/octopus-gravel-andermatt/
LOCATION:Andermatt
END:VEVENT
BEGIN:VEVENT
DTSTART;TZID=Europe/Zurich:20240629T040000
DTEND;TZID=Europe/Zurich:20240629T170000
DTSTAMP:20260421T020532
CREATED:20240121T182430Z
LAST-MODIFIED:20240121T182430Z
UID:1871-1719633600-1719680400@staging.motocrew.ch
SUMMARY:Chasing Cancellara Bern Zermatt
DESCRIPTION:
URL:https://staging.motocrew.ch/event/chasing-cancellara-bern-zermatt/
LOCATION:Bern
CATEGORIES:Events
END:VEVENT
BEGIN:VEVENT
DTSTART;TZID=Europe/Zurich:20240623T080000
DTEND;TZID=Europe/Zurich:20240623T170000
DTSTAMP:20260421T020532
CREATED:20240121T182041Z
LAST-MODIFIED:20240121T182041Z
UID:1866-1719129600-1719162000@staging.motocrew.ch
SUMMARY:Zürich City Triathlon
DESCRIPTION:
URL:https://staging.motocrew.ch/event/zuerich-city-triathlon/
LOCATION:Zürich\, Switzerland
CATEGORIES:Events
END:VEVENT
END:VCALENDAR