BEGIN:VCALENDAR
VERSION:2.0
PRODID:-//Motocrew - ECPv6.15.14//NONSGML v1.0//EN
CALSCALE:GREGORIAN
METHOD:PUBLISH
X-ORIGINAL-URL:https://staging.motocrew.ch
X-WR-CALDESC:Veranstaltungen im Motocrew
REFRESH-INTERVAL;VALUE=DURATION:PT1H
X-Robots-Tag:noindex
X-PUBLISHED-TTL:PT1H
BEGIN:VTIMEZONE
TZID:Europe/Zurich
BEGIN:DAYLIGHT
TZOFFSETFROM:+0100
TZOFFSETTO:+0200
TZNAME:CEST
DTSTART:20230326T010000
END:DAYLIGHT
BEGIN:STANDARD
TZOFFSETFROM:+0200
TZOFFSETTO:+0100
TZNAME:CET
DTSTART:20231029T010000
END:STANDARD
BEGIN:DAYLIGHT
TZOFFSETFROM:+0100
TZOFFSETTO:+0200
TZNAME:CEST
DTSTART:20240331T010000
END:DAYLIGHT
BEGIN:STANDARD
TZOFFSETFROM:+0200
TZOFFSETTO:+0100
TZNAME:CET
DTSTART:20241027T010000
END:STANDARD
BEGIN:DAYLIGHT
TZOFFSETFROM:+0100
TZOFFSETTO:+0200
TZNAME:CEST
DTSTART:20250330T010000
END:DAYLIGHT
BEGIN:STANDARD
TZOFFSETFROM:+0200
TZOFFSETTO:+0100
TZNAME:CET
DTSTART:20251026T010000
END:STANDARD
END:VTIMEZONE
BEGIN:VEVENT
DTSTART;TZID=Europe/Zurich:20240817T120000
DTEND;TZID=Europe/Zurich:20240817T220000
DTSTAMP:20260421T181518
CREATED:20240123T114143Z
LAST-MODIFIED:20240123T114143Z
UID:1903-1723896000-1723932000@staging.motocrew.ch
SUMMARY:ZüriCrit 2024
DESCRIPTION:
URL:https://staging.motocrew.ch/event/zuericrit-2024/
LOCATION:Zürich\, Switzerland
END:VEVENT
BEGIN:VEVENT
DTSTART;TZID=Europe/Zurich:20240817T150000
DTEND;TZID=Europe/Zurich:20240817T220000
DTSTAMP:20260421T181518
CREATED:20240121T183429Z
LAST-MODIFIED:20240121T183429Z
UID:1883-1723906800-1723932000@staging.motocrew.ch
SUMMARY:Swiss Skate Tour Bern; World Inline Cup
DESCRIPTION:
URL:https://staging.motocrew.ch/event/swiss-skate-tour-bern-world-inline-cup/
LOCATION:Bern
CATEGORIES:Events
END:VEVENT
END:VCALENDAR